BEGIN:VCALENDAR
VERSION:2.0
PRODID:-//Vereniging De Parken - ECPv6.15.20//NONSGML v1.0//EN
CALSCALE:GREGORIAN
METHOD:PUBLISH
X-WR-CALNAME:Vereniging De Parken
X-ORIGINAL-URL:https://www.deparken.nl
X-WR-CALDESC:Evenementen voor Vereniging De Parken
REFRESH-INTERVAL;VALUE=DURATION:PT1H
X-Robots-Tag:noindex
X-PUBLISHED-TTL:PT1H
BEGIN:VTIMEZONE
TZID:Europe/Amsterdam
BEGIN:DAYLIGHT
TZOFFSETFROM:+0100
TZOFFSETTO:+0200
TZNAME:CEST
DTSTART:20220327T010000
END:DAYLIGHT
BEGIN:STANDARD
TZOFFSETFROM:+0200
TZOFFSETTO:+0100
TZNAME:CET
DTSTART:20221030T010000
END:STANDARD
BEGIN:DAYLIGHT
TZOFFSETFROM:+0100
TZOFFSETTO:+0200
TZNAME:CEST
DTSTART:20230326T010000
END:DAYLIGHT
BEGIN:STANDARD
TZOFFSETFROM:+0200
TZOFFSETTO:+0100
TZNAME:CET
DTSTART:20231029T010000
END:STANDARD
BEGIN:DAYLIGHT
TZOFFSETFROM:+0100
TZOFFSETTO:+0200
TZNAME:CEST
DTSTART:20240331T010000
END:DAYLIGHT
BEGIN:STANDARD
TZOFFSETFROM:+0200
TZOFFSETTO:+0100
TZNAME:CET
DTSTART:20241027T010000
END:STANDARD
BEGIN:DAYLIGHT
TZOFFSETFROM:+0100
TZOFFSETTO:+0200
TZNAME:CEST
DTSTART:20250330T010000
END:DAYLIGHT
BEGIN:STANDARD
TZOFFSETFROM:+0200
TZOFFSETTO:+0100
TZNAME:CET
DTSTART:20251026T010000
END:STANDARD
BEGIN:DAYLIGHT
TZOFFSETFROM:+0100
TZOFFSETTO:+0200
TZNAME:CEST
DTSTART:20260329T010000
END:DAYLIGHT
BEGIN:STANDARD
TZOFFSETFROM:+0200
TZOFFSETTO:+0100
TZNAME:CET
DTSTART:20261025T010000
END:STANDARD
END:VTIMEZONE
BEGIN:VEVENT
DTSTART;TZID=Europe/Amsterdam:20250830T110000
DTEND;TZID=Europe/Amsterdam:20250830T160000
DTSTAMP:20260421T133051
CREATED:20250718T112844Z
LAST-MODIFIED:20250721T143755Z
UID:10000061-1756551600-1756569600@www.deparken.nl
SUMMARY:Parkenfeest Jeugd
DESCRIPTION:Op zaterdag 30 augustus is van 11.00 tot 16.00 uur rondom Marialust en het Koetshuis de “doe-lekker-mee-dag” o.l.v. Scouting Stadhouder Willem III / Lady Baden-Powell\, en natuurlijk zijn de (gratis) poffertjes er weer.
URL:https://www.deparken.nl/agendaitem/parkenfeest-jeugd-3/
LOCATION:Koetshuis Marialust\, Verzetsstrijderspark 14\, Apeldoorn\, 7316CM
CATEGORIES:Parkenfeest
END:VEVENT
BEGIN:VEVENT
DTSTART;TZID=Europe/Amsterdam:20250829T173000
DTEND;TZID=Europe/Amsterdam:20250829T230000
DTSTAMP:20260421T133051
CREATED:20250718T112641Z
LAST-MODIFIED:20250718T113046Z
UID:10000060-1756488600-1756508400@www.deparken.nl
SUMMARY:Parkenfeest Volwassenen
DESCRIPTION:Op vrijdag 29 augustus is van 17.30 tot 23.00 uur de borrel met hapjes voor volwassenen.
URL:https://www.deparken.nl/agendaitem/parkenfeest-volwassenen-3/
LOCATION:Koetshuis Marialust\, Verzetsstrijderspark 14\, Apeldoorn\, 7316CM
CATEGORIES:Parkenfeest
END:VEVENT
BEGIN:VEVENT
DTSTART;TZID=Europe/Amsterdam:20240824T120000
DTEND;TZID=Europe/Amsterdam:20240824T170000
DTSTAMP:20260421T133051
CREATED:20240714T131038Z
LAST-MODIFIED:20240820T191116Z
UID:10000051-1724500800-1724518800@www.deparken.nl
SUMMARY:Parkenfeest Jeugd
DESCRIPTION:Zaterdag 24 augustus is van 12.00 tot 17.00 uur gereserveerd voor onze jonge Parkenbewoners. Natuurlijk zijn elders wonende kleinkinderen van Parkenbewoners ook van harte welkom. Natuurlijk mogen vriendjes uit andere wijken meekomen.In het Verzetstrijderspark rondom Marialust is van alles te beleven:Het wordt weer een “doe-mee-dag” onder leiding van de Scoutinggroep Stadhouder Willem III/Lady Baden-Powell. Zo kun je bij voorbeeld reuzebellen blazen\, vlot bouwen en varen\, geschminkt worden\, klimmen en klauteren.  Aan de inwendige mens is ook gedacht: er staat een poffertjeskraam en er kunnen broodjes gebakken worden. Deelname en poffertjes en broodjes zijn\, mede dankzij sponsoren\, gratis.
URL:https://www.deparken.nl/agendaitem/parkenfeest-jeugd-2/
LOCATION:Koetshuis Marialust\, Verzetsstrijderspark 14\, Apeldoorn\, 7316CM
CATEGORIES:Parkenfeest
END:VEVENT
BEGIN:VEVENT
DTSTART;TZID=Europe/Amsterdam:20240823T173000
DTEND;TZID=Europe/Amsterdam:20240823T230000
DTSTAMP:20260421T133051
CREATED:20240714T130624Z
LAST-MODIFIED:20240820T190910Z
UID:10000050-1724434200-1724454000@www.deparken.nl
SUMMARY:Parkenfeest Volwassenen
DESCRIPTION:Vrijdag 23 augustus ben je van 17.30 tot 23.00 welkom in het Koetshuis om na te praten over de zomer\, want wat begon het nat en wat werd het warm en wat vloog het voorbij\,Om -nader- kennis te maken met oude en nieuwe buurtgenoten\, om het nieuwe seizoen in te luiden\, kortom: redenen genoeg om er bij te zijn! Dankzij onze sponsoren kosten drankjes € 2\,– per consumptie en worden de borrelhapjes aangeboden.
URL:https://www.deparken.nl/agendaitem/parkenfeest-volwassenen-2/
LOCATION:Koetshuis Marialust\, Verzetsstrijderspark 14\, Apeldoorn\, 7316CM
CATEGORIES:Parkenfeest
END:VEVENT
BEGIN:VEVENT
DTSTART;TZID=Europe/Amsterdam:20230826T120000
DTEND;TZID=Europe/Amsterdam:20230826T160000
DTSTAMP:20260421T133051
CREATED:20230218T124820Z
LAST-MODIFIED:20230624T111735Z
UID:10000032-1693051200-1693065600@www.deparken.nl
SUMMARY:Parkenfeest Jeugd
DESCRIPTION:Op zaterdag 26 augustus is het van 10.00 tot 16.00 uur feest voor kinderen; en natuurlijk mogen ouders en grootouders mee. Dit keer een doe-mee-dag onder leiding van de scoutinggroep Willem III/Lady Baden Powell van de Jachtlaan. Er is voor ieder kind wat te doen: broodjes bakken\, apenbrug\, schminken\, vlot maken\, krat stapelen enz. enz.Schuif gezellig aan en doe mee!
URL:https://www.deparken.nl/agendaitem/parkenfeest-jeugd/
LOCATION:Koetshuis Marialust\, Verzetsstrijderspark 14\, Apeldoorn\, 7316CM
CATEGORIES:Parkenfeest
END:VEVENT
BEGIN:VEVENT
DTSTART;TZID=Europe/Amsterdam:20230825T173000
DTEND;TZID=Europe/Amsterdam:20230825T230000
DTSTAMP:20260421T133051
CREATED:20230218T124315Z
LAST-MODIFIED:20230218T125317Z
UID:10000031-1692984600-1693004400@www.deparken.nl
SUMMARY:Parkenfeest Volwassenen
DESCRIPTION:Na de zomer starten we als vanouds met het Parkenfeest. Vrijdagavond 25 augustus\, ontmoeten we je graag vanaf 17.30. Tot het eind van de avond kun je onder het genot van drankjes en hapjes bijpraten jou al met bekende buurtgenoten en kennismaken met nieuwe. De (toekomstige) bewoners van de nieuwbouwprojecten rond de Vlijtseweg worden ook uitgenodigd.
URL:https://www.deparken.nl/agendaitem/parkenfeest-volwassenen/
LOCATION:Koetshuis Marialust\, Verzetsstrijderspark 14\, Apeldoorn\, 7316CM
CATEGORIES:Parkenfeest
END:VEVENT
END:VCALENDAR